BEGIN:VCALENDAR
VERSION:2.0
PRODID:-//wp-events-plugin.com//7.2.3.1//EN
TZID:Europe/Paris
X-WR-TIMEZONE:Europe/Paris
BEGIN:VEVENT
UID:35@celinepierret.com
DTSTART;TZID=Europe/Paris:20260606T084500
DTEND;TZID=Europe/Paris:20260606T173000
DTSTAMP:20260208T155739Z
URL:https://www.celinepierret.com/events/atelier-constellation-familiale-6
 /
SUMMARY:Atelier Constellation familiale
DESCRIPTION:
LOCATION:Fontaines sur Saône (69)\, 36 rue Pierre Bouvier\, Fontaines sur 
 Saône\, 69270\, France
X-APPLE-STRUCTURED-LOCATION;VALUE=URI;X-ADDRESS=36 rue Pierre Bouvier\, Fon
 taines sur Saône\, 69270\, France;X-APPLE-RADIUS=100;X-TITLE=Fontaines su
 r Saône (69):geo:0,0
END:VEVENT
BEGIN:VTIMEZONE
TZID:Europe/Paris
X-LIC-LOCATION:Europe/Paris
BEGIN:DAYLIGHT
DTSTART:20260329T030000
TZOFFSETFROM:+0100
TZOFFSETTO:+0200
TZNAME:CEST
END:DAYLIGHT
END:VTIMEZONE
END:VCALENDAR